BEGIN:VCALENDAR
VERSION:2.0
PRODID:-//Aikimode Aiki Akademi - ECPv6.2.0.1//NONSGML v1.0//EN
CALSCALE:GREGORIAN
METHOD:PUBLISH
X-WR-CALNAME:Aikimode Aiki Akademi
X-ORIGINAL-URL:https://aikimode.com
X-WR-CALDESC:Aikimode Aiki Akademi için etkinlikler
REFRESH-INTERVAL;VALUE=DURATION:PT1H
X-Robots-Tag:noindex
X-PUBLISHED-TTL:PT1H
BEGIN:VTIMEZONE
TZID:Europe/Istanbul
BEGIN:STANDARD
TZOFFSETFROM:+0300
TZOFFSETTO:+0300
TZNAME:+03
DTSTART:20230101T000000
END:STANDARD
END:VTIMEZONE
BEGIN:VEVENT
DTSTART;TZID=Europe/Istanbul:20230716T190000
DTEND;TZID=Europe/Istanbul:20230716T200000
DTSTAMP:20260423T191427
CREATED:20230705T100201Z
LAST-MODIFIED:20230705T103459Z
UID:12829-1689534000-1689537600@aikimode.com
SUMMARY:Aikimode Tema Semineri ”Dinamik Aikido” Temmuz 2023
DESCRIPTION:Eğitmen : Oğuzhan Ulvi Başkurt\nEğitim yeri : Aikimode Aiki Akademi 4.Levent\nKontenjan : 40 kişi\nTema : Takemusu Aiki (Dinamik Aikido) \nEğitimin tarihi: 16 Temmuz 2023 Pazar 19.00-20.00 \nTema semineri ücretler ve katılım şartları ile ilgili tüm detaylar için tıklayınız. \n&amp;amp;amp;amp;amp;amp;amp;lt;span data-mce-type=”bookmark” style=”display: inline-block; width: 0px; overflow: hidden; line-height: 0;” class=”mce_SELRES_start”&amp;amp;amp;amp;amp;amp;amp;gt;﻿&amp;amp;amp;amp;amp;amp;amp;lt;/span&amp;amp;amp;amp;amp;amp;amp;gt;&amp;amp;amp;amp;amp;amp;amp;lt;span data-mce-type=”bookmark” style=”display: inline-block; width: 0px; overflow: hidden; line-height: 0;” class=”mce_SELRES_start”&amp;amp;amp;amp;amp;amp;amp;gt;﻿&amp;amp;amp;amp;amp;amp;amp;lt;/span&amp;amp;amp;amp;amp;amp;amp;gt;
URL:https://aikimode.com/etkinlik/aikimode-tema-semineri-dinamik-aikido-temmuz-2023
LOCATION:Aikimode Aiki Akademi 4.Levent (Sapphire)\, İstanbul Sapphire AVM. B4 Katı 34330 4. Levent Emniyet Evleri Mahallesi Eski Büyükdere Cad No:1 / 1 / 4B21\, istanbul\, istanbul\, 34415\, Türkiye
END:VEVENT
END:VCALENDAR