BEGIN:VCALENDAR
VERSION:2.0
PRODID:-//Aikimode Aiki Akademi - ECPv6.2.0.1//NONSGML v1.0//EN
CALSCALE:GREGORIAN
METHOD:PUBLISH
X-ORIGINAL-URL:https://aikimode.com
X-WR-CALDESC:Aikimode Aiki Akademi için etkinlikler
REFRESH-INTERVAL;VALUE=DURATION:PT1H
X-Robots-Tag:noindex
X-PUBLISHED-TTL:PT1H
BEGIN:VTIMEZONE
TZID:Europe/Istanbul
BEGIN:STANDARD
TZOFFSETFROM:+0300
TZOFFSETTO:+0300
TZNAME:+03
DTSTART:20240101T000000
END:STANDARD
END:VTIMEZONE
BEGIN:VEVENT
DTSTART;TZID=Europe/Istanbul:20240223T170000
DTEND;TZID=Europe/Istanbul:20240223T180000
DTSTAMP:20260421T233754
CREATED:20240215T061139Z
LAST-MODIFIED:20240215T061139Z
UID:13251-1708707600-1708711200@aikimode.com
SUMMARY:”Çocuk Savunma Semineri” Şubat 2024
DESCRIPTION:Eğitmen : Oğuzhan Ulvi Başkurt\nEğitim yeri : Aikimode Aiki Akademi 4.Levent\nKontenjan : 40 kişi\nTema : Çocuk Savunma Semineri \nEğitimin tarihi: 23 Şubat Cuma 17.00-17.00 \nTema semineri ücretler ve katılım şartları ile ilgili tüm detaylar için tıklayınız. \n&amp;amp;amp;amp;amp;amp;amp;amp;amp;amp;amp;lt;span data-mce-type=”bookmark” style=”display: inline-block; width: 0px; overflow: hidden; line-height: 0;” class=”mce_SELRES_start”&amp;amp;amp;amp;amp;amp;amp;amp;amp;amp;amp;gt;﻿&amp;amp;amp;amp;amp;amp;amp;amp;amp;amp;amp;lt;/span&amp;amp;amp;amp;amp;amp;amp;amp;amp;amp;amp;gt;&amp;amp;amp;amp;amp;amp;amp;amp;amp;amp;amp;lt;span data-mce-type=”bookmark” style=”display: inline-block; width: 0px; overflow: hidden; line-height: 0;” class=”mce_SELRES_start”&amp;amp;amp;amp;amp;amp;amp;amp;amp;amp;amp;gt;﻿&amp;amp;amp;amp;amp;amp;amp;amp;amp;amp;amp;lt;/span&amp;amp;amp;amp;amp;amp;amp;amp;amp;amp;amp;gt;
URL:https://aikimode.com/etkinlik/cocuk-savunma-semineri-subat-2024
LOCATION:Aikimode Aiki Akademi 4.Levent (Sapphire)\, İstanbul Sapphire AVM. B4 Katı 34330 4. Levent Emniyet Evleri Mahallesi Eski Büyükdere Cad No:1 / 1 / 4B21\, istanbul\, istanbul\, 34415\, Türkiye
END:VEVENT
BEGIN:VEVENT
DTSTART;TZID=Europe/Istanbul:20240223T180000
DTEND;TZID=Europe/Istanbul:20240223T190000
DTSTAMP:20260421T233754
CREATED:20240211T115513Z
LAST-MODIFIED:20240211T120910Z
UID:13245-1708711200-1708714800@aikimode.com
SUMMARY:Aikimode Tema Semineri ”Savunma Yöntemleri” Şubat 2024
DESCRIPTION:Eğitmen : Oğuzhan Ulvi Başkurt\nEğitim yeri : Aikimode Aiki Akademi 4.Levent\nKontenjan : 40 kişi\nTema : Savunma Yöntemleri  (Günlük yaşamda karşılaşılacak tehlikelere karşı savunma yöntemleri) \nEğitimin tarihi: 23 Şubat Cuma 18.00-19.00 \nTema semineri ücretler ve katılım şartları ile ilgili tüm detaylar için tıklayınız. \n&amp;amp;amp;amp;amp;amp;amp;amp;amp;amp;amp;lt;span data-mce-type=”bookmark” style=”display: inline-block; width: 0px; overflow: hidden; line-height: 0;” class=”mce_SELRES_start”&amp;amp;amp;amp;amp;amp;amp;amp;amp;amp;amp;gt;﻿&amp;amp;amp;amp;amp;amp;amp;amp;amp;amp;amp;lt;/span&amp;amp;amp;amp;amp;amp;amp;amp;amp;amp;amp;gt;&amp;amp;amp;amp;amp;amp;amp;amp;amp;amp;amp;lt;span data-mce-type=”bookmark” style=”display: inline-block; width: 0px; overflow: hidden; line-height: 0;” class=”mce_SELRES_start”&amp;amp;amp;amp;amp;amp;amp;amp;amp;amp;amp;gt;﻿&amp;amp;amp;amp;amp;amp;amp;amp;amp;amp;amp;lt;/span&amp;amp;amp;amp;amp;amp;amp;amp;amp;amp;amp;gt;
URL:https://aikimode.com/etkinlik/aikimode-tema-semineri-savunma-yontemleri-subat-2024
LOCATION:Aikimode Aiki Akademi 4.Levent (Sapphire)\, İstanbul Sapphire AVM. B4 Katı 34330 4. Levent Emniyet Evleri Mahallesi Eski Büyükdere Cad No:1 / 1 / 4B21\, istanbul\, istanbul\, 34415\, Türkiye
END:VEVENT
BEGIN:VEVENT
DTSTART;TZID=Europe/Istanbul:20240223T190000
DTEND;TZID=Europe/Istanbul:20240223T200000
DTSTAMP:20260421T233754
CREATED:20240210T210027Z
LAST-MODIFIED:20240405T063101Z
UID:13230-1708714800-1708718400@aikimode.com
SUMMARY:Aikimode Tema Semineri ”Kuzushi” Şubat 2024
DESCRIPTION:Eğitmen : Oğuzhan Ulvi Başkurt\nEğitim yeri : Aikimode Aiki Akademi 4.Levent\nKontenjan : 40 kişi\nTema : Kuzushi  (Denge Bozma) \nEğitimin tarihi: 23 Şubat Cuma 19.00-20.00 \nTema semineri ücretler ve katılım şartları ile ilgili tüm detaylar için tıklayınız. \n&amp;amp;amp;amp;amp;amp;amp;amp;amp;amp;amp;lt;span data-mce-type=”bookmark” style=”display: inline-block; width: 0px; overflow: hidden; line-height: 0;” class=”mce_SELRES_start”&amp;amp;amp;amp;amp;amp;amp;amp;amp;amp;amp;gt;﻿&amp;amp;amp;amp;amp;amp;amp;amp;amp;amp;amp;lt;/span&amp;amp;amp;amp;amp;amp;amp;amp;amp;amp;amp;gt;&amp;amp;amp;amp;amp;amp;amp;amp;amp;amp;amp;lt;span data-mce-type=”bookmark” style=”display: inline-block; width: 0px; overflow: hidden; line-height: 0;” class=”mce_SELRES_start”&amp;amp;amp;amp;amp;amp;amp;amp;amp;amp;amp;gt;﻿&amp;amp;amp;amp;amp;amp;amp;amp;amp;amp;amp;lt;/span&amp;amp;amp;amp;amp;amp;amp;amp;amp;amp;amp;gt;
URL:https://aikimode.com/etkinlik/aikimode-tema-semineri-kuzushi-subat-2024
LOCATION:Aikimode Aiki Akademi 4.Levent (Sapphire)\, İstanbul Sapphire AVM. B4 Katı 34330 4. Levent Emniyet Evleri Mahallesi Eski Büyükdere Cad No:1 / 1 / 4B21\, istanbul\, istanbul\, 34415\, Türkiye
END:VEVENT
END:VCALENDAR