BEGIN:VCALENDAR
VERSION:2.0
PRODID:-//Aikimode Aiki Akademi - ECPv6.2.0.1//NONSGML v1.0//EN
CALSCALE:GREGORIAN
METHOD:PUBLISH
X-ORIGINAL-URL:https://aikimode.com
X-WR-CALDESC:Aikimode Aiki Akademi için etkinlikler
REFRESH-INTERVAL;VALUE=DURATION:PT1H
X-Robots-Tag:noindex
X-PUBLISHED-TTL:PT1H
BEGIN:VTIMEZONE
TZID:Europe/Istanbul
BEGIN:STANDARD
TZOFFSETFROM:+0300
TZOFFSETTO:+0300
TZNAME:+03
DTSTART:20220101T000000
END:STANDARD
END:VTIMEZONE
BEGIN:VEVENT
DTSTART;TZID=Europe/Istanbul:20221125T200000
DTEND;TZID=Europe/Istanbul:20221125T210000
DTSTAMP:20260424T040909
CREATED:20221115T204537Z
LAST-MODIFIED:20221115T204537Z
UID:11865-1669406400-1669410000@aikimode.com
SUMMARY:Aikimode Tema Semineri ”İRİMİ” Kasım 2022
DESCRIPTION:Eğitmen : Oğuzhan Ulvi Başkurt\nEğitim yeri : Aikimode Aiki Akademi 4.Levent\nKontenjan : 40 kişi\nTema : İrimi (Giriş ve Sonuç) \nEğitimin tarihi: 25 Kasım 2022 Cuma 20.00-21.00 \nAikimode Aiki Akademi Aktif Üyeleri : 100 TL (İndirim kodu aktif öğrencilerin cep telefonuna sms olarak gönderilmiştir. Size gönderilecek kod ile 250 TL olan seminer ücretini 100 TL olarak ödeyebilirsiniz) \nAikimode Aiki Akademi Pasif Üyeleri : 150 TL (İndirim kodu için uygulama üzerinden şubeye mesaj yollayınız. Size gönderilecek kod ile 250 TL olan seminer ücretini 150 TL olarak ödeyebilirsiniz) \nAikimode Aiki Akademi Full-Part Çalışanları: 50 TL \nAikimode Aiki Akademi dojoları dışından : 250 TL \nEğitime katılmak isteyen Aikimode çalışanları Aikimode Aiki Akademi’deki danışma masasından kayıtlarını yaptırabilirler. \nTema Seminerleri sadece Genç&Yetişkin grubu (12+) öğrencileri için açıktır. Aktif ve Pasif üyeler kayıt olabilir. \nEğitime katılmak isteyenler öğrenciler ve üyeler aikimode uygulama (app) üzerinden kayıt yaptırmalıdırlar. Aşağıdaki videoyu izleyerek seminerlere nasıl kayıt yaptırabileceğinizi öğrenebilirsiniz. Sınırlı kontenjan olması dolayısı ile lütfen kayıtlarınızı vakit geçirmeden yaptırınız. \n﻿ \n 
URL:https://aikimode.com/etkinlik/aikimode-tema-semineri-irimi-kasim-2022
LOCATION:Aikimode Aiki Akademi 4.Levent (Sapphire)\, İstanbul Sapphire AVM. B4 Katı 34330 4. Levent Emniyet Evleri Mahallesi Eski Büyükdere Cad No:1 / 1 / 4B21\, istanbul\, istanbul\, 34415\, Türkiye
END:VEVENT
BEGIN:VEVENT
DTSTART;TZID=Europe/Istanbul:20221126T090000
DTEND;TZID=Europe/Istanbul:20221126T100000
DTSTAMP:20260424T040909
CREATED:20221116T084739Z
LAST-MODIFIED:20221116T084739Z
UID:11897-1669453200-1669456800@aikimode.com
SUMMARY:Ataşehir Genç&Yetişkin Derecelendirme Sınavı (Kasım 2022)
DESCRIPTION:Ataşehir Derecelendirme Sınavı \nDerecelendirme sınavı dolayısı ile sınav saatlerindeki antrenmanlar yapılmamaktadır. Bu saatlerde derse katılanlar için şubeye Aikimode App üzerinden mesaj göndererek telafi talep edilebilir. \n\n\n\nGenç&Yetişkin Aikido Derecelendirme Sınavları\n\nAtaşehir Genç&Yetişkin Sınav Programı\n\n26 Kasım Cumartesi 09.00 – 10.00 Yetişkin (12+) 6.Kyu\, 5.Kyu\, 4.Kyu\, 3.Kyu\n\n\n\n\n\n\n\nTüm detaylar için tıklayınız.
URL:https://aikimode.com/etkinlik/atasehir-gencyetiskin-derecelendirme-sinavi-kasim-2022
LOCATION:Aikimode Aiki Akademi Bahçelievler\, DeliHüseyin Paşa Cad.Hurmalı Sok. Gül Apt 14 A Bahçelievler\, istanbul\, 34180\, Türkiye
END:VEVENT
BEGIN:VEVENT
DTSTART;TZID=Europe/Istanbul:20221126T190000
DTEND;TZID=Europe/Istanbul:20221126T200000
DTSTAMP:20260424T040909
CREATED:20221115T211938Z
LAST-MODIFIED:20221115T211938Z
UID:11878-1669489200-1669492800@aikimode.com
SUMMARY:4.Levent Genç&Yetişkin Derecelendirme Sınavı (Kasım 2022)
DESCRIPTION:4.Levent Derecelendirme Sınavı \nDerecelendirme sınavı dolayısı ile sınav saatlerindeki antrenmanlar yapılmamaktadır. Bu saatlerde derse katılanlar için şubeye Aikimode App üzerinden mesaj göndererek telafi talep edilebilir. \n\n\n\nGenç&Yetişkin Aikido Derecelendirme Sınavları\n\n4.Levent Genç&Yetişkin Sınav Programı\n\n26 Kasım Cumartesi 19.00 – 20.00 Yetişkin (12+) 6.Kyu\, 5.Kyu\, 4.Kyu\, 3.Kyu\n\n\n\n\n\n\n\nTüm detaylar için tıklayınız.
URL:https://aikimode.com/etkinlik/4-levent-gencyetiskin-derecelendirme-sinavi-kasim-2022
LOCATION:Aikimode Aiki Akademi 4.Levent (Sapphire)\, İstanbul Sapphire AVM. B4 Katı 34330 4. Levent Emniyet Evleri Mahallesi Eski Büyükdere Cad No:1 / 1 / 4B21\, istanbul\, istanbul\, 34415\, Türkiye
END:VEVENT
BEGIN:VEVENT
DTSTART;TZID=Europe/Istanbul:20221127T090000
DTEND;TZID=Europe/Istanbul:20221127T100000
DTSTAMP:20260424T040909
CREATED:20221115T212559Z
LAST-MODIFIED:20221115T212559Z
UID:11880-1669539600-1669543200@aikimode.com
SUMMARY:Bahçelievler Genç&Yetişkin Derecelendirme Sınavı (Kasım 2022)
DESCRIPTION:Bahçelievler Derecelendirme Sınavı \nDerecelendirme sınavı dolayısı ile sınav saatlerindeki antrenmanlar yapılmamaktadır. Bu saatlerde derse katılanlar için şubeye Aikimode App üzerinden mesaj göndererek telafi talep edilebilir. \n\n\n\nGenç&Yetişkin Aikido Derecelendirme Sınavları\n\n\nBahçelievler Genç&Yetişkin Sınav Programı\n\n27 Kasım Pazar 09.00 – 10.00 Yetişkin (12+) 6.Kyu\, 5.Kyu\, 4.Kyu\, 3.Kyu\n\n\n\n\n\n\n\nTüm detaylar için tıklayınız.
URL:https://aikimode.com/etkinlik/bahcelievler-gencyetiskin-derecelendirme-sinavi-kasim-2022
LOCATION:Aikimode Aiki Akademi Bahçelievler\, DeliHüseyin Paşa Cad.Hurmalı Sok. Gül Apt 14 A Bahçelievler\, istanbul\, 34180\, Türkiye
END:VEVENT
BEGIN:VEVENT
DTSTART;TZID=Europe/Istanbul:20221127T180000
DTEND;TZID=Europe/Istanbul:20221127T220000
DTSTAMP:20260424T040909
CREATED:20221115T213333Z
LAST-MODIFIED:20221115T213333Z
UID:11883-1669572000-1669586400@aikimode.com
SUMMARY:Ataşehir&4.Levent&Bahçelievler Kıdemli Yetişkin Derecelendirme Sınavı (Kasım 2022)
DESCRIPTION:Ataşehir&4.Levent&Bahçelievler Kıdemli Yetişkin Derecelendirme Sınavı \nDerecelendirme sınavı dolayısı ile 4.Levent şubesinde sınav saatlerindeki antrenmanlar yapılmamaktadır. Bu saatlerde derse katılanlar için şubeye Aikimode App üzerinden mesaj göndererek telafi talep edilebilir. \n\nAtaşehir\, 4.Levent\, Bahçelievler Kıdemli Yetişkin Sınav Programı\n\n27 Kasım Pazar 18.00 – 22.00 Yetişkin (12+) 2. Kyu-1.Kyu-ShodanHo-Shodan\n27 Kasım Pazar 18.00 – 22.00 Nidan(1.1 ve 2)-Sandan(2.1 \, 2.2 ve 3)-Yondan (3.1 \, 3\,2 \, 3.3 \, 4)\n1. dan ve üzeri kıdemlerdeki sınavlara katılacaklar asistanlıklarını ve seminerlerini tamamlayarak sensei’nin onayını almalıdırlar. Kası ayı içerisinde bir ”Dan Kampı” yapılacaktır.\n\n\n\nTüm detaylar için tıklayınız.
URL:https://aikimode.com/etkinlik/atasehir4-leventbahcelievler-kidemli-yetiskin-derecelendirme-sinavi-kasim-2022
LOCATION:Aikimode Aiki Akademi 4.Levent (Sapphire)\, İstanbul Sapphire AVM. B4 Katı 34330 4. Levent Emniyet Evleri Mahallesi Eski Büyükdere Cad No:1 / 1 / 4B21\, istanbul\, istanbul\, 34415\, Türkiye
END:VEVENT
END:VCALENDAR