BEGIN:VCALENDAR
VERSION:2.0
PRODID:-//Aikimode Aiki Akademi - ECPv6.2.0.1//NONSGML v1.0//EN
CALSCALE:GREGORIAN
METHOD:PUBLISH
X-ORIGINAL-URL:https://aikimode.com
X-WR-CALDESC:Aikimode Aiki Akademi için etkinlikler
REFRESH-INTERVAL;VALUE=DURATION:PT1H
X-Robots-Tag:noindex
X-PUBLISHED-TTL:PT1H
BEGIN:VTIMEZONE
TZID:Europe/Istanbul
BEGIN:STANDARD
TZOFFSETFROM:+0300
TZOFFSETTO:+0300
TZNAME:+03
DTSTART:20220101T000000
END:STANDARD
END:VTIMEZONE
BEGIN:VEVENT
DTSTART;TZID=Europe/Istanbul:20221224T190000
DTEND;TZID=Europe/Istanbul:20221224T200000
DTSTAMP:20260424T025012
CREATED:20221116T091742Z
LAST-MODIFIED:20221116T091742Z
UID:11902-1671908400-1671912000@aikimode.com
SUMMARY:Aikimode Tema Semineri ”Takemusu-Aiki” Aralık 2022
DESCRIPTION:Eğitmen : Oğuzhan Ulvi Başkurt\nEğitim yeri : Aikimode Aiki Akademi 4.Levent\nKontenjan : 40 kişi\nTema : Takemusu Aiki (Dinamik Aikido) \nEğitimin tarihi: 24 Aralık 2022 Cumartesi 19.00-20.00 \nTema semineri ücretler ve katılım şartları ile ilgili tüm detaylar için tıklayınız. \n<span data-mce-type=”bookmark” style=”display: inline-block; width: 0px; overflow: hidden; line-height: 0;” class=”mce_SELRES_start”>﻿</span><span data-mce-type=”bookmark” style=”display: inline-block; width: 0px; overflow: hidden; line-height: 0;” class=”mce_SELRES_start”>﻿</span>
URL:https://aikimode.com/etkinlik/aikimode-tema-semineri-takemusu-aiki-aralik-2022
LOCATION:Aikimode Aiki Akademi 4.Levent (Sapphire)\, İstanbul Sapphire AVM. B4 Katı 34330 4. Levent Emniyet Evleri Mahallesi Eski Büyükdere Cad No:1 / 1 / 4B21\, istanbul\, istanbul\, 34415\, Türkiye
END:VEVENT
BEGIN:VEVENT
DTSTART;TZID=Europe/Istanbul:20221225T180000
DTEND;TZID=Europe/Istanbul:20221225T190000
DTSTAMP:20260424T025012
CREATED:20221115T210238Z
LAST-MODIFIED:20221121T114757Z
UID:11872-1671991200-1671994800@aikimode.com
SUMMARY:Ayın Antrenmanı – Aralık 2022
DESCRIPTION:Eğitmen : Oğuzhan Ulvi Başkurt\n\nEğitim yeri : Aikimode Aiki Akademi 4.Levent\nEğitimin tarihi: 25 Aralık Pazar 18.00-19.00\n\nAikimode Aiki Akademi Üyeleri : Ücretsiz \nAikimode Aiki Akademi Pasif Üye (Üyeliği Devam Etmeyen Eski Üye) : 150 TL \n\nAikimode Aiki Akademi’de ”Ayın Keiko”su (Antrenmanı) etkinliğini başlattık.Her ayın belirlenen bir saatinde ve belirlenen bir dojoda yapılacak bu çalışmaya tüm 12+ (Genç ve Yetişkin) Aikimode Aiki Akademi üyeleri katılabilecektir. Bu çalışmada Aikimode Aiki Akademi öğrencilerinin teknik bilgisini üst mertebelere taşırken çoşkulu bir antrenmanla aramızdaki dostluk bağlarımızı güçlendirme amaçlanmaktadır.\n\nAynı zamanda ”Ayın Keiko”su (Antrenmanı) etkinliğine katılan öğrencilerden 1 saat asistanlık düşülecektir. Eğer genç&yetişkin (12+) sınıfı öğrencisi kendi kayıtlı olduğu şubenin dışında Ayın Keiko”su (Antrenmanı) etkinliğine katılmışsa (Örneğin Ataşehir şubesine kayıtlı bir öğrenci Bahçelievler’deki Ay’ın Keiko”su etkinliğine katılmışsa) 2 saat asistanlık düşülecektir.  Buradaki amaç farklı dojolardaki öğrencilerin birbiri ile antrenman yapmasını sağlayarak kaliteli bir eğitim düzeyi oluşturabilmektir.\n\nAyın Keiko”su (Antrenmanı) etkinliğine katılan öğrenciler etkinlik sonrası danışma masasına katılım yaptıklarını bildirerek asistanlık düşümlerini yaptırmalıdırlar.Aikimode uygulama (app) üzerinden asistanlık durumlarını kontrol edebilirler.\n*Tüm yetişkin (12+) Aikido sınıfı öğrencileri çalışmalara katılabilirler.\n  \n  \nAikimode Uygulama (app) Ay’ın Antrenmanı Rezervasyonu Oluşturma\n﻿﻿\n  \nAy’ın Antrenmanı 2023 \n\n\n\nOcak\n16 Ocak Pazartesi 19.30\nBahçelievler\n\n\nŞubat\n4 Şubat Cumartesi 18.00\nAtaşehir\n\n\nMart\n5 Mart Pazar 18.00\n4.Levent\n\n\nNisan\n3 Pazartesi 19.30\nBahçelievler\n\n\nMayıs\n6 Mayıs Cumartesi 18.00\nAtaşehir\n\n\nHaziran\n8 Haziran Perşembe 07.00\n4.Levent\n\n\n\n\n\n\nTemmuz\n3 Temmuz Pazartesi 19.30\nBahçelievler\n\n\nAğustos\n3 Ağustos Perşembe 18.30\nAtaşehir\n\n\nEylül\n6 Eylül Çarşamba 19.30\n4.Levent\n\n\nEkim\n9 Ekim Pazartesi 19.30\nBahçelievler\n\n\nKasım\n4 Kasım Cumartesi 18.00\nAtaşehir\n\n\nAralık\n24 Aralık Pazar 18.00\n4.Levent\n\n\n\n 
URL:https://aikimode.com/etkinlik/ayin-antrenmani-aralik-2022
LOCATION:istanbul
END:VEVENT
BEGIN:VEVENT
DTSTART;TZID=Europe/Istanbul:20221225T200000
DTEND;TZID=Europe/Istanbul:20221225T213000
DTSTAMP:20260424T025012
CREATED:20221116T095341Z
LAST-MODIFIED:20221116T095341Z
UID:11905-1671998400-1672003800@aikimode.com
SUMMARY:2022 EMBU – Aikimode Yıl Sonu Gösterisi
DESCRIPTION:”EMBU” gösterileri için geri sayım başladı. Her sene aralık ayında yapılan bu gösteriler Aikido’nun gelişimine ve tanıtımına katkı sağlayacaktır. Aikimode Aiki Akademi’nin siyah kuşak öğrencilerinin 1-1\,5 dakika aikido teknik sunumu (aikido gösterisi) yapacağı EMBU’ya tüm öğrencilerimizi ve velilerimizi davet ediyoruz. Bu görsel şölen için kamera ve fotoğraf makinalarınızı hazır tutmayı unutmayın. \nAikimode yıl sonu gösterisi EMBU 25 Aralık Pazar 20.00. Pazar 19.00-20.00 arası provalar var. Öncesinde de 2022 Aralık ayın antrenmanı 18.00-19.00 da tüm yetişkin sınıfı öğrencilerimizin katılımı ile olacak. \n\nSensei Oğuzhan Başkurt’un Mesajı; \nLütfen tüm dan sahibi öğrenciler bu etkinliğe katılsın. Çünkü ileride çok büyük bir organizasyona dönüşecek bu etkinliğe katılmak çok büyük bir onur. Güzel anılar bırakıcak. 10-20-30 sene sonra bu etkinliğin videolarını hep beraber izleyip bu güzel organizasyonun bir parçası olmanın haklı gururunu yaşayacaksınız. Bu bir yarışma değildir. Bunu bir araya gelmemize vesile olan senelik bir etkinlik olarak düşünün. \nYer : Aikimode Aiki Akademi 4.Levent (Sapphire AVM) \nTarih: 25 Aralık 2022 Pazar \nEtkinlik Programı \n\n18.00-19.00 Aralık Ayın Antrenmanı\n19.00-20.00 EMBU provalar\n20.00-21.00 EMBU\n21.00-21.30 Hakama Katlama yarışması\n\n 
URL:https://aikimode.com/etkinlik/2022-embu-aikimode-yil-sonu-gosterisi
LOCATION:Aikimode Aiki Akademi 4.Levent (Sapphire)\, İstanbul Sapphire AVM. B4 Katı 34330 4. Levent Emniyet Evleri Mahallesi Eski Büyükdere Cad No:1 / 1 / 4B21\, istanbul\, istanbul\, 34415\, Türkiye
END:VEVENT
END:VCALENDAR