BEGIN:VCALENDAR
VERSION:2.0
PRODID:-//Aikimode Aiki Akademi - ECPv6.2.0.1//NONSGML v1.0//EN
CALSCALE:GREGORIAN
METHOD:PUBLISH
X-WR-CALNAME:Aikimode Aiki Akademi
X-ORIGINAL-URL:https://aikimode.com
X-WR-CALDESC:Aikimode Aiki Akademi için etkinlikler
REFRESH-INTERVAL;VALUE=DURATION:PT1H
X-Robots-Tag:noindex
X-PUBLISHED-TTL:PT1H
BEGIN:VTIMEZONE
TZID:Europe/Istanbul
BEGIN:STANDARD
TZOFFSETFROM:+0300
TZOFFSETTO:+0300
TZNAME:+03
DTSTART:20230101T000000
END:STANDARD
END:VTIMEZONE
BEGIN:VEVENT
DTSTART;TZID=Europe/Istanbul:20230130T153000
DTEND;TZID=Europe/Istanbul:20230202T163000
DTSTAMP:20260424T001921
CREATED:20221116T161729Z
LAST-MODIFIED:20221116T161729Z
UID:11922-1675092600-1675355400@aikimode.com
SUMMARY:Bahçelievler Çocuk Savunma Eğitimi - Sömestr(2.Dönem) 2023
DESCRIPTION:Eğitim yeri : Aikimode Aiki Akademi Bahçelievler\nKontenjan : 10 kişiye 1 eğitmen düşecek şekilde programlanacaktır. \nEğitimin tarihi:  \n\n30-31 Ocak 1-2 Şubat  2023 Pazartesi-Salı-Çarşamba-Perşembe 15.30-16.30 (1.Dönem)\n\nEğitim hakkındaki tüm detaylar için tıklayınız.
URL:https://aikimode.com/etkinlik/bahcelievler-cocuk-savunma-egitimi-somestr2-donem-2023
LOCATION:Aikimode Aiki Akademi Bahçelievler\, DeliHüseyin Paşa Cad.Hurmalı Sok. Gül Apt 14 A Bahçelievler\, istanbul\, 34180\, Türkiye
END:VEVENT
BEGIN:VEVENT
DTSTART;TZID=Europe/Istanbul:20230130T153000
DTEND;TZID=Europe/Istanbul:20230202T163000
DTSTAMP:20260424T001921
CREATED:20221116T203603Z
LAST-MODIFIED:20221116T203603Z
UID:11928-1675092600-1675355400@aikimode.com
SUMMARY:Ataşehir Çocuk Savunma Eğitimi - Sömestr(2.Dönem) 2023
DESCRIPTION:Eğitim yeri : Aikimode Aiki Akademi Ataşehir\nKontenjan : 10 kişiye 1 eğitmen düşecek şekilde programlanacaktır. \nEğitimin tarihi:  \n\n30-31 Ocak 1-2 Şubat  2023 Pazartesi-Salı-Çarşamba-Perşembe 15.30-16.30 (2.Dönem)\n\nEğitim hakkındaki tüm detaylar için tıklayınız.
URL:https://aikimode.com/etkinlik/atasehir-cocuk-savunma-egitimi-somestr2-donem-2023
LOCATION:Aikimode Aiki Akademi Ataşehir\, Barbaros Mah. Evren Cad. no:68/A\, istanbul\, istanbul\, 34746\, Türkiye
END:VEVENT
BEGIN:VEVENT
DTSTART;TZID=Europe/Istanbul:20230130T153000
DTEND;TZID=Europe/Istanbul:20230202T163000
DTSTAMP:20260424T001921
CREATED:20221116T204256Z
LAST-MODIFIED:20221116T204256Z
UID:11930-1675092600-1675355400@aikimode.com
SUMMARY:4.Levent Çocuk Savunma Eğitimi - Sömestr(2.Dönem) 2023
DESCRIPTION:Eğitim yeri : Aikimode Aiki Akademi 4.Levent (Sapphire)\nKontenjan : 10 kişiye 1 eğitmen düşecek şekilde programlanacaktır. \nEğitimin tarihi:  \n\n30-31 Ocak 1-2 Şubat  2023 Pazartesi-Salı-Çarşamba-Perşembe 15.30-16.30 (2.Dönem)\n\nEğitim hakkındaki tüm detaylar için tıklayınız.
URL:https://aikimode.com/etkinlik/4-levent-cocuk-savunma-egitimi-somestr2-donem-2023
LOCATION:Aikimode Aiki Akademi 4.Levent (Sapphire)\, İstanbul Sapphire AVM. B4 Katı 34330 4. Levent Emniyet Evleri Mahallesi Eski Büyükdere Cad No:1 / 1 / 4B21\, istanbul\, istanbul\, 34415\, Türkiye
END:VEVENT
BEGIN:VEVENT
DTSTART;TZID=Europe/Istanbul:20230204T180000
DTEND;TZID=Europe/Istanbul:20230204T190000
DTSTAMP:20260424T001921
CREATED:20230130T095834Z
LAST-MODIFIED:20230130T095834Z
UID:12160-1675533600-1675537200@aikimode.com
SUMMARY:Ayın Antrenmanı – Şubat 2023
DESCRIPTION:Eğitmen : Oğuzhan Ulvi Başkurt\n\nEğitim yeri : Aikimode Aiki Akademi Ataşehir\nEğitimin tarihi: 4 Şubat 2023 Cumartesi 18.00-19.00\n\nAikimode Aiki Akademi Üyeleri : Ücretsiz \nAikimode Aiki Akademi Pasif Üye (Üyeliği Devam Etmeyen Eski Üye) : 200 TL \n\nAikimode Aiki Akademi’de ”Ayın Keiko”su (Antrenmanı) etkinliğini başlattık.Her ayın belirlenen bir saatinde ve belirlenen bir dojoda yapılacak bu çalışmaya tüm 12+ (Genç ve Yetişkin) Aikimode Aiki Akademi üyeleri katılabilecektir. Bu çalışmada Aikimode Aiki Akademi öğrencilerinin teknik bilgisini üst mertebelere taşırken çoşkulu bir antrenmanla aramızdaki dostluk bağlarımızı güçlendirme amaçlanmaktadır.\n\nAynı zamanda ”Ayın Keiko”su (Antrenmanı) etkinliğine katılan öğrencilerden 1 saat asistanlık düşülecektir. Eğer genç&yetişkin (12+) sınıfı öğrencisi kendi kayıtlı olduğu şubenin dışında Ayın Keiko”su (Antrenmanı) etkinliğine katılmışsa (Örneğin Ataşehir şubesine kayıtlı bir öğrenci Bahçelievler’deki Ay’ın Keiko”su etkinliğine katılmışsa) 2 saat asistanlık düşülecektir.  Buradaki amaç farklı dojolardaki öğrencilerin birbiri ile antrenman yapmasını sağlayarak kaliteli bir eğitim düzeyi oluşturabilmektir.\n\nAyın Keiko”su (Antrenmanı) etkinliğine katılan öğrenciler etkinlik sonrası danışma masasına katılım yaptıklarını bildirerek asistanlık düşümlerini yaptırmalıdırlar.Aikimode uygulama (app) üzerinden asistanlık durumlarını kontrol edebilirler.\n*Tüm yetişkin (12+) Aikido sınıfı öğrencileri çalışmalara katılabilirler.\n  \nAikimode Uygulama (app) Ay’ın Antrenmanı Rezervasyonu Oluşturma\n&amp;lt;span data-mce-type=”bookmark” style=”display: inline-block; width: 0px; overflow: hidden; line-height: 0;” class=”mce_SELRES_start”&amp;gt;﻿&amp;lt;/span&amp;gt;&amp;lt;span data-mce-type=”bookmark” style=”display: inline-block; width: 0px; overflow: hidden; line-height: 0;” class=”mce_SELRES_start”&amp;gt;﻿&amp;lt;/span&amp;gt;\n 
URL:https://aikimode.com/etkinlik/ayin-antrenmani-subat-2023
LOCATION:Aikimode Aiki Akademi Ataşehir\, Barbaros Mah. Evren Cad. no:68/A\, istanbul\, istanbul\, 34746\, Türkiye
END:VEVENT
BEGIN:VEVENT
DTSTART;TZID=Europe/Istanbul:20230224T190000
DTEND;TZID=Europe/Istanbul:20230224T200000
DTSTAMP:20260424T001921
CREATED:20230131T084743Z
LAST-MODIFIED:20230131T084743Z
UID:12187-1677265200-1677268800@aikimode.com
SUMMARY:Aikimode Tema Semineri ”Kote Gaeshi” Şubat 2023
DESCRIPTION:Eğitmen : Oğuzhan Ulvi Başkurt\nEğitim yeri : Aikimode Aiki Akademi 4.Levent\nKontenjan : 40 kişi\nTema : Kote Gaeshi (Bilek burkma teknikleri) \nEğitimin tarihi: 24 Şubat 2023 Cuma 19.00-20.00 \nTema semineri ücretler ve katılım şartları ile ilgili tüm detaylar için tıklayınız. \n&amp;lt;span data-mce-type=”bookmark” style=”display: inline-block; width: 0px; overflow: hidden; line-height: 0;” class=”mce_SELRES_start”&amp;gt;﻿&amp;lt;/span&amp;gt;&amp;lt;span data-mce-type=”bookmark” style=”display: inline-block; width: 0px; overflow: hidden; line-height: 0;” class=”mce_SELRES_start”&amp;gt;﻿&amp;lt;/span&amp;gt;
URL:https://aikimode.com/etkinlik/aikimode-tema-semineri-kote-gaeshi-subat-2023
LOCATION:Aikimode Aiki Akademi 4.Levent (Sapphire)\, İstanbul Sapphire AVM. B4 Katı 34330 4. Levent Emniyet Evleri Mahallesi Eski Büyükdere Cad No:1 / 1 / 4B21\, istanbul\, istanbul\, 34415\, Türkiye
END:VEVENT
END:VCALENDAR