BEGIN:VCALENDAR
VERSION:2.0
PRODID:-//Aikimode Aiki Akademi - ECPv6.2.0.1//NONSGML v1.0//EN
CALSCALE:GREGORIAN
METHOD:PUBLISH
X-ORIGINAL-URL:https://aikimode.com
X-WR-CALDESC:Aikimode Aiki Akademi için etkinlikler
REFRESH-INTERVAL;VALUE=DURATION:PT1H
X-Robots-Tag:noindex
X-PUBLISHED-TTL:PT1H
BEGIN:VTIMEZONE
TZID:Europe/Istanbul
BEGIN:STANDARD
TZOFFSETFROM:+0300
TZOFFSETTO:+0300
TZNAME:+03
DTSTART:20230101T000000
END:STANDARD
END:VTIMEZONE
BEGIN:VEVENT
DTSTART;TZID=Europe/Istanbul:20231223T180000
DTEND;TZID=Europe/Istanbul:20231223T190000
DTSTAMP:20260422T005007
CREATED:20230618T212520Z
LAST-MODIFIED:20231207T171134Z
UID:12697-1703354400-1703358000@aikimode.com
SUMMARY:Ayın Antrenmanı – Aralık 2023
DESCRIPTION:Eğitmen : Oğuzhan Ulvi Başkurt\n\nEğitim yeri : Aikimode Aiki Akademi 4.Levent\nEğitimin tarihi: 23 Aralık Cumartesi 18.00-19.00\n\nAikimode Aiki Akademi Üyeleri : Ücretsiz \nAikimode Aiki Akademi Pasif Üye (Üyeliği Devam Etmeyen Eski Üye) : 300 TL \n\nAikimode Aiki Akademi’de ”Ayın Keiko”su (Antrenmanı) etkinliğini başlattık.Her ayın belirlenen bir saatinde ve belirlenen bir dojoda yapılacak bu çalışmaya tüm 12+ (Genç ve Yetişkin) Aikimode Aiki Akademi üyeleri katılabilecektir. Bu çalışmada Aikimode Aiki Akademi öğrencilerinin teknik bilgisini üst mertebelere taşırken çoşkulu bir antrenmanla aramızdaki dostluk bağlarımızı güçlendirme amaçlanmaktadır.\n\nAynı zamanda ”Ayın Keiko”su (Antrenmanı) etkinliğine katılan öğrencilerden 1 saat asistanlık düşülecektir. Eğer genç&yetişkin (12+) sınıfı öğrencisi kendi kayıtlı olduğu şubenin dışında Ayın Keiko”su (Antrenmanı) etkinliğine katılmışsa (Örneğin Ataşehir şubesine kayıtlı bir öğrenci Bahçelievler’deki Ay’ın Keiko”su etkinliğine katılmışsa) 2 saat asistanlık düşülecektir.  Buradaki amaç farklı dojolardaki öğrencilerin birbiri ile antrenman yapmasını sağlayarak kaliteli bir eğitim düzeyi oluşturabilmektir.\n\nAyın Keiko”su (Antrenmanı) etkinliğine katılan öğrenciler etkinlik sonrası danışma masasına katılım yaptıklarını bildirerek asistanlık düşümlerini yaptırmalıdırlar.Aikimode uygulama (app) üzerinden asistanlık durumlarını kontrol edebilirler.\n*Tüm yetişkin (12+) Aikido sınıfı öğrencileri çalışmalara katılabilirler.\n  \nAikimode Uygulama (app) Ay’ın Antrenmanı Rezervasyonu Oluşturma\n&amp;amp;amp;amp;lt;span data-mce-type=”bookmark” style=”display: inline-block; width: 0px; overflow: hidden; line-height: 0;” class=”mce_SELRES_start”&amp;amp;amp;amp;gt;﻿&amp;amp;amp;amp;lt;/span&amp;amp;amp;amp;gt;&amp;amp;amp;amp;lt;span data-mce-type=”bookmark” style=”display: inline-block; width: 0px; overflow: hidden; line-height: 0;” class=”mce_SELRES_start”&amp;amp;amp;amp;gt;﻿&amp;amp;amp;amp;lt;/span&amp;amp;amp;amp;gt;\n 
URL:https://aikimode.com/etkinlik/12697
LOCATION:Aikimode Aiki Akademi 4.Levent (Sapphire)\, İstanbul Sapphire AVM. B4 Katı 34330 4. Levent Emniyet Evleri Mahallesi Eski Büyükdere Cad No:1 / 1 / 4B21\, istanbul\, istanbul\, 34415\, Türkiye
END:VEVENT
BEGIN:VEVENT
DTSTART;TZID=Europe/Istanbul:20231223T190000
DTEND;TZID=Europe/Istanbul:20231223T200000
DTSTAMP:20260422T005007
CREATED:20231206T144058Z
LAST-MODIFIED:20231206T144330Z
UID:12991-1703358000-1703361600@aikimode.com
SUMMARY:Aikimode Tema Semineri ”Ushiro Waza” Aralık 2023
DESCRIPTION:Eğitmen : Oğuzhan Ulvi Başkurt\nEğitim yeri : Aikimode Aiki Akademi 4.Levent\nKontenjan : 40 kişi\nTema : Ushiro Waza (Arkadan Saldırılara Karşı Yapılan Teknikler) \nEğitimin tarihi: 23 Aralık Cumartesi 19.00-20.00 \nTema semineri ücretler ve katılım şartları ile ilgili tüm detaylar için tıklayınız. \n&amp;amp;amp;amp;amp;amp;amp;amp;amp;amp;amp;lt;span data-mce-type=”bookmark” style=”display: inline-block; width: 0px; overflow: hidden; line-height: 0;” class=”mce_SELRES_start”&amp;amp;amp;amp;amp;amp;amp;amp;amp;amp;amp;gt;﻿&amp;amp;amp;amp;amp;amp;amp;amp;amp;amp;amp;lt;/span&amp;amp;amp;amp;amp;amp;amp;amp;amp;amp;amp;gt;&amp;amp;amp;amp;amp;amp;amp;amp;amp;amp;amp;lt;span data-mce-type=”bookmark” style=”display: inline-block; width: 0px; overflow: hidden; line-height: 0;” class=”mce_SELRES_start”&amp;amp;amp;amp;amp;amp;amp;amp;amp;amp;amp;gt;﻿&amp;amp;amp;amp;amp;amp;amp;amp;amp;amp;amp;lt;/span&amp;amp;amp;amp;amp;amp;amp;amp;amp;amp;amp;gt;
URL:https://aikimode.com/etkinlik/12991
LOCATION:Aikimode Aiki Akademi 4.Levent (Sapphire)\, İstanbul Sapphire AVM. B4 Katı 34330 4. Levent Emniyet Evleri Mahallesi Eski Büyükdere Cad No:1 / 1 / 4B21\, istanbul\, istanbul\, 34415\, Türkiye
END:VEVENT
BEGIN:VEVENT
DTSTART;TZID=Europe/Istanbul:20231223T200000
DTEND;TZID=Europe/Istanbul:20231223T213000
DTSTAMP:20260422T005007
CREATED:20231206T093418Z
LAST-MODIFIED:20231207T171037Z
UID:12988-1703361600-1703367000@aikimode.com
SUMMARY:EMBU - Aralık 2023
DESCRIPTION:Eğitmen : Oğuzhan Ulvi Başkurt\n\nEğitim yeri : Aikimode Aiki Akademi 4.Levent\nEğitimin tarihi: 23 Aralık Cumartesi 20.00-21.30\n\nAikimode Aiki Akademi Üyeleri : Ücretsiz \nAikimode Aiki Akademi Pasif Üye (Üyeliği Devam Etmeyen Eski Üye) : Ücretsiz \n\nAikimode Aiki Akademi’de yıl sonu gösterisi ”EMBU” için kayıtlar başladı.\n\nGösteri yapan siyah kuşak (Dan sahibi) öğrencilerden 3 saat asistanlık düşülecektir. ”EMBU” etkinliğine katılan ve ukelik yapan öğrencilerden 2 saat asistanlık düşülecektir. ”EMBU” etkinliğini izleyen öğrencilerden 1 saat asistanlık düşülecektir. \n\nEMBU etkinliğine katılan öğrenciler etkinlik sonrası danışma masasına katılım yaptıklarını bildirerek asistanlık düşümlerini yaptırmalıdırlar.Aikimode uygulama (app) üzerinden asistanlık durumlarını kontrol edebilirler.\n*Tüm yetişkin (12+) Aikido sınıfı öğrencileri çalışmalara katılabilirler.\n***EMBU için kayıtlar aynı mantık ile ayın antrenmanına kayıt olur gibi yapılmaktadır. Seçenelerden EMBU’yu seçmelisiniz. \nAikimode Uygulama (app) Ay’ın Antrenmanı Rezervasyonu Oluşturma\n&amp;amp;amp;amp;amp;lt;span data-mce-type=”bookmark” style=”display: inline-block; width: 0px; overflow: hidden; line-height: 0;” class=”mce_SELRES_start”&amp;amp;amp;amp;amp;gt;﻿&amp;amp;amp;amp;amp;lt;/span&amp;amp;amp;amp;amp;gt;&amp;amp;amp;amp;amp;lt;span data-mce-type=”bookmark” style=”display: inline-block; width: 0px; overflow: hidden; line-height: 0;” class=”mce_SELRES_start”&amp;amp;amp;amp;amp;gt;﻿&amp;amp;amp;amp;amp;lt;/span&amp;amp;amp;amp;amp;gt;\n 
URL:https://aikimode.com/etkinlik/embu-aralik-2023
LOCATION:Aikimode Aiki Akademi 4.Levent (Sapphire)\, İstanbul Sapphire AVM. B4 Katı 34330 4. Levent Emniyet Evleri Mahallesi Eski Büyükdere Cad No:1 / 1 / 4B21\, istanbul\, istanbul\, 34415\, Türkiye
END:VEVENT
END:VCALENDAR